BEGIN:VCALENDAR
VERSION:2.0
PRODID:-//wp-events-plugin.com//7.2.3.1//EN
TZID:Europe/Paris
X-WR-TIMEZONE:Europe/Paris
BEGIN:VEVENT
UID:31@lestiac.com
DTSTART;TZID=Europe/Paris:20210703T210000
DTEND;TZID=Europe/Paris:20210703T234500
DTSTAMP:20210614T072345Z
URL:https://lestiac.com/events/scenes-dete-avec-julien-loko-irish-band/
SUMMARY:Scènes d'été avec Julien Loko Irish Band
DESCRIPTION:Rendez-vous le 3 juillet pour un concert gratuit en plein air\n
 \nImaginez... une cale remplie de fûts\, \nd'un bateau en partance pour l
 'Irlande\, craquant et remuant au gré des vagues\,\nImaginez... les rues 
 bouillantes de Dublin\, les musiciens au coin des rues de Galway\, les pub
 s bondés\, les cris\, les concours de fléchettes\,\nImaginez... les lég
 endes celtes qui accompagnent chaque morceau … \n\nAvec leur spectacle 
 "Odyssey"\, les musiciens du Julien Loko Irish Band vous invitent à un vo
 yage unique\, qui revisite les standards irlandais\, enrichis de leurs pro
 pres compositions.\n\nCe concert aura lieu  à 21h dans le parc de la mai
 rie dans le cadre des Scènes d’été 2021. \nEntrée gratuite\, avec su
 r place food-trucks et buvette.\n(Merci de venir avec vos gobelets pour li
 miter les déchets et les manipulations au bar).\n\nNous vous attendons no
 mbreux et masqués pour partager ce moment festif et renouer avec la Cultu
 re !\n\n&nbsp\;
ATTACH;FMTTYPE=image/jpeg:https://lestiac.com/wp-content/uploads/2021/06/j
 ulien-loko-bulletin.jpg
LOCATION:Mairie de Lestiac\, 1 chemin de l'église\, Lestiac-sur-Garonne\, 
 Nouvelle-Aquitaine\, 33550\, Gironde\, France
GEO:44.693964;-0.3744
X-APPLE-STRUCTURED-LOCATION;VALUE=URI;X-ADDRESS=1 chemin de l'église\, Les
 tiac-sur-Garonne\, Nouvelle-Aquitaine\, 33550\, Gironde\, France;X-APPLE-R
 ADIUS=100;X-TITLE=Mairie de Lestiac:geo:44.693964,-0.3744
END:VEVENT
BEGIN:VTIMEZONE
TZID:Europe/Paris
X-LIC-LOCATION:Europe/Paris
BEGIN:DAYLIGHT
DTSTART:20210328T030000
TZOFFSETFROM:+0100
TZOFFSETTO:+0200
TZNAME:CEST
END:DAYLIGHT
END:VTIMEZONE
END:VCALENDAR