BEGIN:VCALENDAR
VERSION:2.0
PRODID:-//wp-events-plugin.com//7.2.3.1//EN
TZID:Europe/Paris
X-WR-TIMEZONE:Europe/Paris
BEGIN:VEVENT
UID:48@lestiac.com
DTSTART;TZID=Europe/Paris:20211216T193000
DTEND;TZID=Europe/Paris:20211216T210000
DTSTAMP:20211213T134620Z
URL:https://lestiac.com/events/reunion-du-conseil-municipal-7/
SUMMARY:Réunion du conseil municipal
DESCRIPTION:
LOCATION:Mairie de Lestiac\, 1 chemin de l'église\, Lestiac-sur-Garonne\, 
 Nouvelle-Aquitaine\, 33550\, Gironde\, France
GEO:44.693964;-0.3744
X-APPLE-STRUCTURED-LOCATION;VALUE=URI;X-ADDRESS=1 chemin de l'église\, Les
 tiac-sur-Garonne\, Nouvelle-Aquitaine\, 33550\, Gironde\, France;X-APPLE-R
 ADIUS=100;X-TITLE=Mairie de Lestiac:geo:44.693964,-0.3744
END:VEVENT
BEGIN:VTIMEZONE
TZID:Europe/Paris
X-LIC-LOCATION:Europe/Paris
BEGIN:STANDARD
DTSTART:20211031T020000
TZOFFSETFROM:+0200
TZOFFSETTO:+0100
TZNAME:CET
END:STANDARD
END:VTIMEZONE
END:VCALENDAR