BEGIN:VCALENDAR
VERSION:2.0
PRODID:-//wp-events-plugin.com//7.2.3.1//EN
TZID:Europe/Paris
X-WR-TIMEZONE:Europe/Paris
BEGIN:VEVENT
UID:108@lestiac.com
DTSTART;TZID=Europe/Paris:20230727T180000
DTEND;TZID=Europe/Paris:20230727T220000
DTSTAMP:20230724T164602Z
URL:https://lestiac.com/events/projections-du-cinema-voyageur/
SUMMARY:Projections du Cinéma Voyageur
DESCRIPTION:
ATTACH;FMTTYPE=image/jpeg:https://lestiac.com/wp-content/uploads/2023/07/a
 ffiche-cinevoyageur-scaled.jpg
LOCATION:Parc de la Mairie\, 1 chemin de l'église\, Lestiac-sur-Garonne\, 
 Nouvelle-Aquitaine\, 33550\, Gironde\, France
GEO:44.694162;-0.374189
X-APPLE-STRUCTURED-LOCATION;VALUE=URI;X-ADDRESS=1 chemin de l'église\, Les
 tiac-sur-Garonne\, Nouvelle-Aquitaine\, 33550\, Gironde\, France;X-APPLE-R
 ADIUS=100;X-TITLE=Parc de la Mairie:geo:44.694162,-0.374189
END:VEVENT
BEGIN:VTIMEZONE
TZID:Europe/Paris
X-LIC-LOCATION:Europe/Paris
BEGIN:DAYLIGHT
DTSTART:20230326T030000
TZOFFSETFROM:+0100
TZOFFSETTO:+0200
TZNAME:CEST
END:DAYLIGHT
END:VTIMEZONE
END:VCALENDAR