BEGIN:VCALENDAR
VERSION:2.0
PRODID:-//wp-events-plugin.com//7.2.3.1//EN
TZID:Europe/Paris
X-WR-TIMEZONE:Europe/Paris
BEGIN:VEVENT
UID:75@lestiac.com
DTSTART;TZID=Europe/Paris:20221127T100000
DTEND;TZID=Europe/Paris:20221127T180000
DTSTAMP:20221107T133941Z
URL:https://lestiac.com/events/marche-de-noel-a-bellegarde/
SUMMARY:Marché de Noël à Bellegarde
DESCRIPTION:Claire et Jean-Pierre Sancier accueilleront le 27 novembre de 1
 0h à 18h des exposants et créateurs pour le traditionnel marché de Noë
 l du château Bellegarde.\n\nAu menu : poterie\, céramique\, travail au c
 rochet\, livres\, initiation au macramé et un stand des Artisans du monde
 .\n\nEt côté papilles\, les produits (foies gras\, confits) de la ferme 
 Gauvry\, un food-truck et les vins bio de la propriété en dégustation.\
 n\n&gt\; Château de Bellegarde  - Claire et Jean-Pierre Sancier  - 2\, 
 chemin de Bellegarde 33550 LESTIAC Sur GARONNE\n06 29 36 21 74\nwww.chatea
 u-de-bellegarde.com claire@chateau-de-bellegarde.com \n\n&nbsp\;
LOCATION:château de Bellegarde\, 2 chemin de bellegarde\, Lestiac-sur-Garo
 nne\, Nouvelle-Aquitaine\, 33550\, Gironde\, France
GEO:44.695535;-0.365873
X-APPLE-STRUCTURED-LOCATION;VALUE=URI;X-ADDRESS=2 chemin de bellegarde\, Le
 stiac-sur-Garonne\, Nouvelle-Aquitaine\, 33550\, Gironde\, France;X-APPLE-
 RADIUS=100;X-TITLE=château de Bellegarde:geo:44.695535,-0.365873
END:VEVENT
BEGIN:VTIMEZONE
TZID:Europe/Paris
X-LIC-LOCATION:Europe/Paris
BEGIN:STANDARD
DTSTART:20221030T020000
TZOFFSETFROM:+0200
TZOFFSETTO:+0100
TZNAME:CET
END:STANDARD
END:VTIMEZONE
END:VCALENDAR