BEGIN:VCALENDAR
VERSION:2.0
PRODID:-//wp-events-plugin.com//7.2.3.1//EN
TZID:Europe/Paris
X-WR-TIMEZONE:Europe/Paris
BEGIN:VEVENT
UID:68@lestiac.com
DTSTART;TZID=Europe/Paris:20220625T100000
DTEND;TZID=Europe/Paris:20220625T160000
DTSTAMP:20220620T062826Z
URL:https://lestiac.com/events/inauguration-de-lhabitat-partage-de-la-mais
 on-de-lartolie/
SUMMARY:Inauguration de l'habitat partagé de la Maison de l'Artolie
DESCRIPTION:En présence de Jean luc Gleyse (président du Département de 
 la Gironde)\, de Vincent Ferrier (sous-préfet de Langon) et de Francis Wi
 lsius (conseiller régional de la Nouvelle Aquitaine)\, l'équipe municipa
 le inaugurera la Maison de l'Artolie\, habitat partagé pour séniors.\n\n
 Au programme : \n&gt\; 10-11h. cérémonie festive\n&gt\; 11-13h. apérit
 if et visites de la maison et de l'expo participative\n&gt\; 13-16h. banqu
 et et bal guinguette\n\nUniquement sur inscriptions\nPlus d'infos au 06 08
  23 34 58
ATTACH;FMTTYPE=image/jpeg:https://lestiac.com/wp-content/uploads/2022/06/I
 mage1.png
LOCATION:Maison de l'Artolie\, 13 chemin du chêne de la liberté\, Lestiac
 -sur-Garonne\, Nouvelle-Aquitaine\, 33550\, Gironde\, France
GEO:44.694275;-0.373281
X-APPLE-STRUCTURED-LOCATION;VALUE=URI;X-ADDRESS=13 chemin du chêne de la l
 iberté\, Lestiac-sur-Garonne\, Nouvelle-Aquitaine\, 33550\, Gironde\, Fra
 nce;X-APPLE-RADIUS=100;X-TITLE=Maison de l'Artolie:geo:44.694275,-0.373281
END:VEVENT
BEGIN:VTIMEZONE
TZID:Europe/Paris
X-LIC-LOCATION:Europe/Paris
BEGIN:DAYLIGHT
DTSTART:20220327T030000
TZOFFSETFROM:+0100
TZOFFSETTO:+0200
TZNAME:CEST
END:DAYLIGHT
END:VTIMEZONE
END:VCALENDAR