BEGIN:VCALENDAR
VERSION:2.0
PRODID:-//wp-events-plugin.com//7.2.3.1//EN
TZID:Europe/Paris
X-WR-TIMEZONE:Europe/Paris
BEGIN:VEVENT
UID:161@lestiac.com
DTSTART;TZID=Europe/Paris:20250517T103000
DTEND;TZID=Europe/Paris:20250517T120000
DTSTAMP:20250402T093833Z
URL:https://lestiac.com/events/cafe-papote-3/
SUMMARY:Café Papote #3
DESCRIPTION:Discutons entre habitants et élus de la commune !
LOCATION:Place de l'Ecole\, 18 Chem. de l'Église\, Lestiac-sur-Garonne\, 3
 3550\, France
GEO:44.692717;-0.373098
X-APPLE-STRUCTURED-LOCATION;VALUE=URI;X-ADDRESS=18 Chem. de l'Église\, Les
 tiac-sur-Garonne\, 33550\, France;X-APPLE-RADIUS=100;X-TITLE=Place de l'Ec
 ole:geo:44.692717,-0.373098
END:VEVENT
BEGIN:VTIMEZONE
TZID:Europe/Paris
X-LIC-LOCATION:Europe/Paris
BEGIN:DAYLIGHT
DTSTART:20250330T030000
TZOFFSETFROM:+0100
TZOFFSETTO:+0200
TZNAME:CEST
END:DAYLIGHT
END:VTIMEZONE
END:VCALENDAR